BEGIN:VCALENDAR
VERSION:2.0
PRODID:-//Holocaust Museum Houston - ECPv6.15.14//NONSGML v1.0//EN
CALSCALE:GREGORIAN
METHOD:PUBLISH
X-ORIGINAL-URL:https://hmh.org
X-WR-CALDESC:Events for Holocaust Museum Houston
REFRESH-INTERVAL;VALUE=DURATION:PT1H
X-Robots-Tag:noindex
X-PUBLISHED-TTL:PT1H
BEGIN:VTIMEZONE
TZID:America/Chicago
BEGIN:DAYLIGHT
TZOFFSETFROM:-0600
TZOFFSETTO:-0500
TZNAME:CDT
DTSTART:20180311T080000
END:DAYLIGHT
BEGIN:STANDARD
TZOFFSETFROM:-0500
TZOFFSETTO:-0600
TZNAME:CST
DTSTART:20181104T070000
END:STANDARD
BEGIN:DAYLIGHT
TZOFFSETFROM:-0600
TZOFFSETTO:-0500
TZNAME:CDT
DTSTART:20190310T080000
END:DAYLIGHT
BEGIN:STANDARD
TZOFFSETFROM:-0500
TZOFFSETTO:-0600
TZNAME:CST
DTSTART:20191103T070000
END:STANDARD
BEGIN:DAYLIGHT
TZOFFSETFROM:-0600
TZOFFSETTO:-0500
TZNAME:CDT
DTSTART:20200308T080000
END:DAYLIGHT
BEGIN:STANDARD
TZOFFSETFROM:-0500
TZOFFSETTO:-0600
TZNAME:CST
DTSTART:20201101T070000
END:STANDARD
BEGIN:DAYLIGHT
TZOFFSETFROM:-0600
TZOFFSETTO:-0500
TZNAME:CDT
DTSTART:20210314T080000
END:DAYLIGHT
BEGIN:STANDARD
TZOFFSETFROM:-0500
TZOFFSETTO:-0600
TZNAME:CST
DTSTART:20211107T070000
END:STANDARD
BEGIN:DAYLIGHT
TZOFFSETFROM:-0600
TZOFFSETTO:-0500
TZNAME:CDT
DTSTART:20220313T080000
END:DAYLIGHT
BEGIN:STANDARD
TZOFFSETFROM:-0500
TZOFFSETTO:-0600
TZNAME:CST
DTSTART:20221106T070000
END:STANDARD
END:VTIMEZONE
BEGIN:VEVENT
DTSTART;TZID=America/Chicago:20210411T103000
DTEND;TZID=America/Chicago:20210411T120000
DTSTAMP:20260425T131701
CREATED:20230809T080456Z
LAST-MODIFIED:20230810T101008Z
UID:10000480-1618137000-1618142400@hmh.org
SUMMARY:NEXTGen’s Tacos & Tours
DESCRIPTION:Ursula Meyer’s Teddy BearBremen\, Germany\, ca. 1925\, Courtesy of the Illinois Holocaust Museum\, Photograph by Jim Lommasson \nHolocaust Museum Houston’s young professionals group\, NEXTGen\, invites you to join us for a private look at Stories of Survival: Object. Image. Memory. This epic exhibition showcases more than 60 personal artifacts brought to America by Survivors of the Holocaust and other genocides. Exploring the relationship between objects\, their meaning to the original owner and subsequent significance\, each artifact is dramatically paired with oversized photographs by renowned documentarian Jim Lommasson with handwritten responses by Survivors or their family members. \nFor your safety\, the Museum will be closed to the public and social distancing guidelines will be strictly followed. Face masks are required. If you do not have one\, the Museum will provide one. \nSpecial thanks to Home Light for sponsoring this event and to Taco Cabana for generously donating tacos! This event is open to the public but RSVP is required. If you would like to become a NEXTGen member\, please visit hmh.org/NEXTGen For more information\, please contact Rocio Rubio\, Corporate Relations Officer\, at rrubio@hmh.org or 713-527-1638. \nStories of Survival: Object. Image. Memory. is a project of the Illinois Holocaust Museum & Education Center and photographer Jim Lommasson. \n			\n				Register
URL:https://hmh.org/event/nextgens-tacos-tours-4/
LOCATION:Mincberg Gallery
CATEGORIES:Tour
ATTACH;FMTTYPE=image/jpeg:https://hmh.org/wp-content/uploads/29_sos71_teddy_bear_8_x_56.jpeg__1440x880_q85_crop_subsampling-2_upscale.jpg
END:VEVENT
BEGIN:VEVENT
DTSTART;TZID=America/Chicago:20201213T103000
DTEND;TZID=America/Chicago:20201213T120000
DTSTAMP:20260425T131701
CREATED:20230809T080453Z
LAST-MODIFIED:20230810T100145Z
UID:10000478-1607855400-1607860800@hmh.org
SUMMARY:NEXTGen’s Tacos & Tours
DESCRIPTION:Mandela with a raised fist\, moments after his release from prison (after 27 years) on February 11\, 1990.Photograph by Graeme Williams \nHolocaust Museum Houston’s young professionals group\, NEXTGen\, invites you to join us for a private look at the U.S. premiere of Mandela: Struggle for Freedom. This captivating exhibition explores the earthshaking fight for justice and human dignity in South Africa – and its relevance to issues of today. Visitors can experience the tiny cell where Nelson Mandela spent 18 of his 27 years in prison\, take a stand in front of a giant 22-foot long by 9-foot tall armored vehicle\, make a virtual protest poster on a digital light table\, or enter a secret apartment for freedom fighters forced underground. \nFor your safety\, the Museum will be closed to the public and social distancing guidelines will be strictly followed. Face masks are required. If you do not have one\, the Museum will provide one. \nSpecial thanks to Liberty Taco for generously donating tacos for this event! This event is open to the public but RSVP is required. If you would like to become a NEXTGen member\, please visit hmh.org/NEXTGen. For more information\, please contact Rocio Rubio\, Corporate Relations Officer\, at rrubio@hmh.org or 713-527-1838. \n			\n				Register
URL:https://hmh.org/event/nextgens-tacos-tours-3/
LOCATION:Mincberg Gallery
CATEGORIES:Tour
ATTACH;FMTTYPE=image/jpeg:https://hmh.org/wp-content/uploads/lg180012-web_only.jpg__1440x880_q85_crop_subject_location-848267_subsampling-2_upscale.jpg
END:VEVENT
BEGIN:VEVENT
DTSTART;TZID=America/Chicago:20200312T180000
DTEND;TZID=America/Chicago:20200312T203000
DTSTAMP:20260425T131701
CREATED:20230808T120339Z
LAST-MODIFIED:20230809T040641Z
UID:10000265-1584036000-1584045000@hmh.org
SUMMARY:Exhibition Opening: "The Book Smugglers"
DESCRIPTION:Mikhal Kovner\, brother of Partisan Abba Kovner\, sorting books; Vilna\, 1943Courtesy of the Moreshet Archive\, Israel \nJoin the Museum for a special first look of The Book Smugglers\, featuring special guest David E. Fishman. The exhibition curated by HMHs Chief Curator of Collections and Exhibitions\, and based on Fishmans book of the same name\, will make it’s world debut in the Museum’s Mincberg Gallery. \nThe Book Smugglers is the nearly unbelievable true story of ghetto residents who rescued thousands of rare books and manuscripts by hiding them on their persons\, burying them in bunkers and smuggling them across borders. Set in Vilna\, Lithuania\, also known as the Jerusalem of Lithuania for their robust Jewish culture rich with art\, music\, literature\, poetry\, theater and opera\, a small group of partisans and poets risked everything to save Jewish cultural treasures. \nThe Book Smugglers exhibition is funded in part by the City of Houston through Houston Arts Alliance. \n			\n				Register\n			\n			\n				\n				\n				\n				\n			\n				\n				\n				\n				\n				\n				\n				\n				\n				\n				\n				\n			\n				\n				\n				\n				\n				United Airlines is the official airline of Holocaust Museum Houston
URL:https://hmh.org/event/exhibition-opening-the-book-smugglers/
LOCATION:Mincberg Gallery
CATEGORIES:OPENING RECEPTION
ATTACH;FMTTYPE=image/png:https://hmh.org/wp-content/uploads/book_smugglers_for_web.png__1440x880_q85_crop_subsampling-2_upscale.png
END:VEVENT
BEGIN:VEVENT
DTSTART;TZID=America/Chicago:20190915T103000
DTEND;TZID=America/Chicago:20190915T103000
DTSTAMP:20260425T131701
CREATED:20230809T080450Z
LAST-MODIFIED:20230810T093303Z
UID:10000469-1568543400-1568543400@hmh.org
SUMMARY:NEXTGen’s Tacos & Tours
DESCRIPTION:Holocaust Museum Houston’s young professionals group\, NEXTGen\, invites you to an exclusive tour of the Museum’s traveling exhibit\, Operation Finale: The Capture and Trial of Adolf Eichmann\, which closes the same evening. This event is a great opportunity to mingle with socially conscious individuals over breakfast and learn more about Holocaust Museum Houston. \nOperation Finale is a co-production of The Mossad – Israeli Secret Intelligence Service; Beit Hatfutsot – The Museum of the Jewish People\, Tel Aviv\, Israel; and the Maltz Museum of Jewish Heritage\, Cleveland\, Ohio. \nThe exhibition is made possible by a generous grant from the Maltz Family Foundation. \nSpecial thanks to La Calle for generously donating tacos for this event. \nFor more information\, please contact Rocio Rubio\, Corporate Relations Officer\, at rrubio@hmh.org or 713-527-1838.\n			\n				Register
URL:https://hmh.org/event/nextgens-tacos-tours/
LOCATION:Mincberg Gallery
CATEGORIES:Tour
ATTACH;FMTTYPE=image/jpeg:https://hmh.org/wp-content/uploads/eichmanncomposite_small_ret.jpg__800x800_q85_crop_subsampling-2_upscale.jpg
END:VEVENT
END:VCALENDAR