BEGIN:VCALENDAR
VERSION:2.0
PRODID:-//Holocaust Museum Houston - ECPv6.15.14//NONSGML v1.0//EN
CALSCALE:GREGORIAN
METHOD:PUBLISH
X-WR-CALNAME:Holocaust Museum Houston
X-ORIGINAL-URL:https://hmh.org
X-WR-CALDESC:Events for Holocaust Museum Houston
REFRESH-INTERVAL;VALUE=DURATION:PT1H
X-Robots-Tag:noindex
X-PUBLISHED-TTL:PT1H
BEGIN:VTIMEZONE
TZID:America/Chicago
BEGIN:DAYLIGHT
TZOFFSETFROM:-0600
TZOFFSETTO:-0500
TZNAME:CDT
DTSTART:20250309T080000
END:DAYLIGHT
BEGIN:STANDARD
TZOFFSETFROM:-0500
TZOFFSETTO:-0600
TZNAME:CST
DTSTART:20251102T070000
END:STANDARD
BEGIN:DAYLIGHT
TZOFFSETFROM:-0600
TZOFFSETTO:-0500
TZNAME:CDT
DTSTART:20260308T080000
END:DAYLIGHT
BEGIN:STANDARD
TZOFFSETFROM:-0500
TZOFFSETTO:-0600
TZNAME:CST
DTSTART:20261101T070000
END:STANDARD
BEGIN:DAYLIGHT
TZOFFSETFROM:-0600
TZOFFSETTO:-0500
TZNAME:CDT
DTSTART:20270314T080000
END:DAYLIGHT
BEGIN:STANDARD
TZOFFSETFROM:-0500
TZOFFSETTO:-0600
TZNAME:CST
DTSTART:20271107T070000
END:STANDARD
END:VTIMEZONE
BEGIN:VEVENT
DTSTART;TZID=America/Chicago:20260416T183000
DTEND;TZID=America/Chicago:20260416T203000
DTSTAMP:20260420T034939
CREATED:20260316T142007Z
LAST-MODIFIED:20260316T142458Z
UID:10001027-1776364200-1776371400@hmh.org
SUMMARY:From Generation to Generation — L'dor V'dor: Zikaron BaSalon at HMH
DESCRIPTION:Holocaust Museum Houston will be hosting a special program\, “From Generation to Generation\,” on Thursday\, April 16\, at 6:30 PM. This intimate conversation will feature a Holocaust Survivor\, a child of a Survivor\, and a grandchild of a Survivor\, offering a powerful multi-generational perspective on memory\, legacy\, and the responsibility of remembrance.\n\n\n\nThis program is part of the Zikaron BaSalon programing hosted by the Jewish Federation of Greater Houston and HMH.
URL:https://hmh.org/event/from-generation-to-generation-ldor-vdor-zikaron-basalon-at-hmh/
LOCATION:Albert and Ethel Herzstein Theater on the Mady and Ken Kades Stage
ATTACH;FMTTYPE=image/jpeg:https://hmh.org/wp-content/uploads/HT3-0049-scaled-e1773671068701.jpg
END:VEVENT
END:VCALENDAR