BEGIN:VCALENDAR
VERSION:2.0
PRODID:-//Holocaust Museum Houston - ECPv6.15.14//NONSGML v1.0//EN
CALSCALE:GREGORIAN
METHOD:PUBLISH
X-ORIGINAL-URL:https://hmh.org
X-WR-CALDESC:Events for Holocaust Museum Houston
REFRESH-INTERVAL;VALUE=DURATION:PT1H
X-Robots-Tag:noindex
X-PUBLISHED-TTL:PT1H
BEGIN:VTIMEZONE
TZID:America/Chicago
BEGIN:DAYLIGHT
TZOFFSETFROM:-0600
TZOFFSETTO:-0500
TZNAME:CDT
DTSTART:20240310T080000
END:DAYLIGHT
BEGIN:STANDARD
TZOFFSETFROM:-0500
TZOFFSETTO:-0600
TZNAME:CST
DTSTART:20241103T070000
END:STANDARD
BEGIN:DAYLIGHT
TZOFFSETFROM:-0600
TZOFFSETTO:-0500
TZNAME:CDT
DTSTART:20250309T080000
END:DAYLIGHT
BEGIN:STANDARD
TZOFFSETFROM:-0500
TZOFFSETTO:-0600
TZNAME:CST
DTSTART:20251102T070000
END:STANDARD
BEGIN:DAYLIGHT
TZOFFSETFROM:-0600
TZOFFSETTO:-0500
TZNAME:CDT
DTSTART:20260308T080000
END:DAYLIGHT
BEGIN:STANDARD
TZOFFSETFROM:-0500
TZOFFSETTO:-0600
TZNAME:CST
DTSTART:20261101T070000
END:STANDARD
END:VTIMEZONE
BEGIN:VEVENT
DTSTART;TZID=America/Chicago:20250906T100000
DTEND;TZID=America/Chicago:20250906T170000
DTSTAMP:20260421T070304
CREATED:20250826T211520Z
LAST-MODIFIED:20250911T184157Z
UID:10000989-1757152800-1757178000@hmh.org
SUMMARY:Latinx Heritage Month Community Building Day
DESCRIPTION:Holocaust Museum Houston is thrilled to host our second annual Latinx Heritage Month – Community Building Day event. As a free day for families and community members\, this event celebrates Latinx Heritage Month by uplifting the history and culture of Houston’s Latinx community while highlighting the interconnections between the Jewish and Latinx community. In the spirit of community building\, this event brings together Houston’s diverse community as we work together to promote an inclusive and civically engaged society. \nThe event will feature information about local community organizations serving the Jewish and Latinx community\, bilingual (English/Spanish) tours of our Holocaust gallery\, a Holocaust and 3G survivor talk\, family activities\, and special performances. \nSchedule:  \n\n11 AM – Docent guided tour of the Holocaust gallery (English)\n11 AM – Segundo Barrio Children’s Chorus\n12 PM – Docent guided tour of the Holocaust gallery (Spanish)\n1 PM – Docent guided tour of the Holocaust gallery (English)\n1 PM – 3 PM – Survivor Table Talk featuring Pauline Rubin\n2 PM – Docent guided tour of the Holocaust gallery (English)\n2:30 PM – Docent guided tour of the Holocaust gallery (Spanish)\n3 PM – 3rd generation Holocaust survivor presentation featuring Margo Aaron (presented in English with simultaneous interpretation services available in Spanish)\n\n  \n  \n  \n  \n			\n				RESERVE FREE TICKETS
URL:https://hmh.org/event/latinx-heritage-month-community-building-day/
LOCATION:Holocaust Museum Houston
ATTACH;FMTTYPE=image/png:https://hmh.org/wp-content/uploads/Latinx-Heritage-720-x-440-px.png
END:VEVENT
END:VCALENDAR