BEGIN:VCALENDAR
VERSION:2.0
PRODID:-//Holocaust Museum Houston - ECPv6.15.14//NONSGML v1.0//EN
CALSCALE:GREGORIAN
METHOD:PUBLISH
X-WR-CALNAME:Holocaust Museum Houston
X-ORIGINAL-URL:https://hmh.org
X-WR-CALDESC:Events for Holocaust Museum Houston
REFRESH-INTERVAL;VALUE=DURATION:PT1H
X-Robots-Tag:noindex
X-PUBLISHED-TTL:PT1H
BEGIN:VTIMEZONE
TZID:America/Chicago
BEGIN:DAYLIGHT
TZOFFSETFROM:-0600
TZOFFSETTO:-0500
TZNAME:CDT
DTSTART:20240310T080000
END:DAYLIGHT
BEGIN:STANDARD
TZOFFSETFROM:-0500
TZOFFSETTO:-0600
TZNAME:CST
DTSTART:20241103T070000
END:STANDARD
BEGIN:DAYLIGHT
TZOFFSETFROM:-0600
TZOFFSETTO:-0500
TZNAME:CDT
DTSTART:20250309T080000
END:DAYLIGHT
BEGIN:STANDARD
TZOFFSETFROM:-0500
TZOFFSETTO:-0600
TZNAME:CST
DTSTART:20251102T070000
END:STANDARD
BEGIN:DAYLIGHT
TZOFFSETFROM:-0600
TZOFFSETTO:-0500
TZNAME:CDT
DTSTART:20260308T080000
END:DAYLIGHT
BEGIN:STANDARD
TZOFFSETFROM:-0500
TZOFFSETTO:-0600
TZNAME:CST
DTSTART:20261101T070000
END:STANDARD
END:VTIMEZONE
BEGIN:VEVENT
DTSTART;VALUE=DATE:20250801
DTEND;VALUE=DATE:20250901
DTSTAMP:20260420T163005
CREATED:20250722T154208Z
LAST-MODIFIED:20250807T140001Z
UID:10000984-1754006400-1756684799@hmh.org
SUMMARY:National Deli Month
DESCRIPTION:During National Delicatessen Month\, August 1-31\, Kenny and Ziggy’s New York Delicatessen & Restaurant is offering a multi-choice\, three-course menu during lunch and dinner for $45\, plus tax and gratuity\, with 10 percent of each meal sold going to HMH to fund the Museum’s education programs. \nAs an added incentive\, HMH will offer anyone who purchases a National Deli Month meal one free admission ticket. \nFor more information\, visit www.delimonth.com. \n			\n				SEE THE MENU
URL:https://hmh.org/event/national-deli-month-8/
LOCATION:Kenny and Ziggy’s – 1743 Post Oak Blvd.
ATTACH;FMTTYPE=image/jpeg:https://hmh.org/wp-content/uploads/ziggy_1975-456w.jpg__1440x880_q85_crop_subsampling-2_upscale.jpg
END:VEVENT
BEGIN:VEVENT
DTSTART;TZID=America/Chicago:20250828T183000
DTEND;TZID=America/Chicago:20250828T203000
DTSTAMP:20260420T163005
CREATED:20250718T154833Z
LAST-MODIFIED:20250718T154839Z
UID:10000983-1756405800-1756413000@hmh.org
SUMMARY:Author Event | "A Blessing\, Not a Burden" by Dr. Alex Kor
DESCRIPTION:By all accounts\, Dr. Alex Kor’s life has been a miracle. The son of two Holocaust survivors who narrowly escaped death\, Alex grew up in Indiana — a state with Midwestern charm and an ignominious history of prejudice. In A Blessing\, Not a Burden\, Alex details his incredible journey\, from his unique upbringing to his present-day mission of carrying on his parents’ inspiring legacy. From his mother’s controversial stance on forgiving the Nazis to his father’s unbridled optimism\, Alex shares life lessons that have helped him overcome his own hardships along the way. Alex also offers his own perspective on forgiveness as he nurtures his parents’ legacies in a world still fraught with discrimination. He’s traveled a long and winding road\, from Terre Haute\, Indiana\, to Auschwitz and many places in between and like his parents\, he has endured… and overcome. \nAs antisemitism festers across the globe\, A Blessing\, Not a Burden takes readers back to one of the most horrific periods in human history\, reminding us of the terrible costs of hate and warning us that we are not so far removed from those dangers as we might think. Yet\, at the same time\, the story of the Kor family stands as a living memorial to the belief that the human spirit can overcome even the darkest of circumstances. \n			\n				RSVP
URL:https://hmh.org/event/author-event-a-blessing-not-a-burden-by-dr-alex-kor/
LOCATION:Albert and Ethel Herzstein Theater on the Mady and Ken Kades Stage
ATTACH;FMTTYPE=image/png:https://hmh.org/wp-content/uploads/Dr-Alex-Kor-720-x-440-px.png
END:VEVENT
END:VCALENDAR