BEGIN:VCALENDAR
VERSION:2.0
PRODID:-//Holocaust Museum Houston - ECPv6.15.14//NONSGML v1.0//EN
CALSCALE:GREGORIAN
METHOD:PUBLISH
X-ORIGINAL-URL:https://hmh.org
X-WR-CALDESC:Events for Holocaust Museum Houston
REFRESH-INTERVAL;VALUE=DURATION:PT1H
X-Robots-Tag:noindex
X-PUBLISHED-TTL:PT1H
BEGIN:VTIMEZONE
TZID:America/Chicago
BEGIN:DAYLIGHT
TZOFFSETFROM:-0600
TZOFFSETTO:-0500
TZNAME:CDT
DTSTART:20240310T080000
END:DAYLIGHT
BEGIN:STANDARD
TZOFFSETFROM:-0500
TZOFFSETTO:-0600
TZNAME:CST
DTSTART:20241103T070000
END:STANDARD
BEGIN:DAYLIGHT
TZOFFSETFROM:-0600
TZOFFSETTO:-0500
TZNAME:CDT
DTSTART:20250309T080000
END:DAYLIGHT
BEGIN:STANDARD
TZOFFSETFROM:-0500
TZOFFSETTO:-0600
TZNAME:CST
DTSTART:20251102T070000
END:STANDARD
BEGIN:DAYLIGHT
TZOFFSETFROM:-0600
TZOFFSETTO:-0500
TZNAME:CDT
DTSTART:20260308T080000
END:DAYLIGHT
BEGIN:STANDARD
TZOFFSETFROM:-0500
TZOFFSETTO:-0600
TZNAME:CST
DTSTART:20261101T070000
END:STANDARD
END:VTIMEZONE
BEGIN:VEVENT
DTSTART;VALUE=DATE:20250308
DTEND;VALUE=DATE:20250619
DTSTAMP:20260420T082726
CREATED:20250220T174135Z
LAST-MODIFIED:20250616T192756Z
UID:10000962-1741392000-1750291199@hmh.org
SUMMARY:Meet and Greets for the HMH Volunteer Program
DESCRIPTION:Meet and Greets are an opportunity for prospective volunteers to visit the Museum and hear firsthand from current volunteers about their experiences with the Volunteer Program. Interested prospective volunteers can apply online and then attend a brief interview with the Visitor Services and Volunteer Manager. This is done to establish basic expectations and explain the requirements for the new volunteers\, including submitting a request for a background check and agreeing to attend a New Volunteer Orientation. \nMeet and Greet Schedule \n\nWednesday\, June 18 from 6:00 pm-7:30 pm\nSunday\, July 6 from 2:00 pm-3:30 pm\n\n			\n				RSVP
URL:https://hmh.org/event/meet-and-greets-for-the-hmh-volunteer-program/
LOCATION:Holocaust Museum Houston
ATTACH;FMTTYPE=image/png:https://hmh.org/wp-content/uploads/1.png
END:VEVENT
BEGIN:VEVENT
DTSTART;TZID=America/Chicago:20250510T190000
DTEND;TZID=America/Chicago:20250510T203000
DTSTAMP:20260420T082726
CREATED:20250407T164412Z
LAST-MODIFIED:20250407T164540Z
UID:10000973-1746903600-1746909000@hmh.org
SUMMARY:We The People: Freedom
DESCRIPTION:Join Holocaust Museum Houston as Apollo Chamber Players’ We the People season concludes with an intergenerational conversation about freedom\, democracy\, and the future. While 20th century American icons Howard Hanson and Walt Whitman reflect the exquisite nuance of a democratic republic\, we amplify the voices of the next generation’s creative leaders through collaborations with Houston’s Kinder HSPVA. \n			\n				GET TICKETS
URL:https://hmh.org/event/we-the-people-freedom/
LOCATION:Albert and Ethel Herzstein Theater on the Mady and Ken Kades Stage
ATTACH;FMTTYPE=image/png:https://hmh.org/wp-content/uploads/We-The-People-720-x-440-px-1.png
END:VEVENT
END:VCALENDAR