BEGIN:VCALENDAR
VERSION:2.0
PRODID:-//Holocaust Museum Houston - ECPv6.15.14//NONSGML v1.0//EN
CALSCALE:GREGORIAN
METHOD:PUBLISH
X-WR-CALNAME:Holocaust Museum Houston
X-ORIGINAL-URL:https://hmh.org
X-WR-CALDESC:Events for Holocaust Museum Houston
REFRESH-INTERVAL;VALUE=DURATION:PT1H
X-Robots-Tag:noindex
X-PUBLISHED-TTL:PT1H
BEGIN:VTIMEZONE
TZID:America/Chicago
BEGIN:DAYLIGHT
TZOFFSETFROM:-0600
TZOFFSETTO:-0500
TZNAME:CDT
DTSTART:20230312T080000
END:DAYLIGHT
BEGIN:STANDARD
TZOFFSETFROM:-0500
TZOFFSETTO:-0600
TZNAME:CST
DTSTART:20231105T070000
END:STANDARD
BEGIN:DAYLIGHT
TZOFFSETFROM:-0600
TZOFFSETTO:-0500
TZNAME:CDT
DTSTART:20240310T080000
END:DAYLIGHT
BEGIN:STANDARD
TZOFFSETFROM:-0500
TZOFFSETTO:-0600
TZNAME:CST
DTSTART:20241103T070000
END:STANDARD
BEGIN:DAYLIGHT
TZOFFSETFROM:-0600
TZOFFSETTO:-0500
TZNAME:CDT
DTSTART:20250309T080000
END:DAYLIGHT
BEGIN:STANDARD
TZOFFSETFROM:-0500
TZOFFSETTO:-0600
TZNAME:CST
DTSTART:20251102T070000
END:STANDARD
END:VTIMEZONE
BEGIN:VEVENT
DTSTART;TZID=America/Chicago:20240725T150000
DTEND;TZID=America/Chicago:20240725T160000
DTSTAMP:20260420T130634
CREATED:20240626T162726Z
LAST-MODIFIED:20240702T215704Z
UID:10000912-1721919600-1721923200@hmh.org
SUMMARY:Bilingual Storytime - Spanish Is the Language of My Family
DESCRIPTION:Join us for a bilingual storytime in partnership with the Smithsonian National Museum of the American Latino’s Young Ambassador Program. \nAn intergenerational story of family ties\, cultural pride\, and spelling bee victory following a young boy who bonds with his beloved abuela over a love of Spanish. As a boy prepares for his school’s Spanish spelling bee\, he asks his grandmother for help with some of the words he doesn’t know how to spell yet. When she studies with him\, she tells him how different things were back when she was a girl\, when she was only allowed to speak English in school. This only inspires him to study even harder and make his family proud. Based on stories author Michael Genhart heard from his mother as a child\, Spanish is the Language of My Family is about the joy of sharing cultural heritage with our families\, inspired by the generations of Latino people who were punished for speaking Spanish and the many ways new generations are rejuvenating the language. \nThis program is free and open to the public with admission. \nIf you need accommodations to attend this program\, please contact Heather Cornejo at hcornejo@hmh.org.
URL:https://hmh.org/event/bilingual-storytime-spanish-is-the-language-of-my-family/
LOCATION:Albert and Ethel Herzstein Theater
ATTACH;FMTTYPE=image/png:https://hmh.org/wp-content/uploads/Storytime-720-x-440-px.png
END:VEVENT
END:VCALENDAR