BEGIN:VCALENDAR
VERSION:2.0
PRODID:-//Holocaust Museum Houston - ECPv6.15.14//NONSGML v1.0//EN
CALSCALE:GREGORIAN
METHOD:PUBLISH
X-ORIGINAL-URL:https://hmh.org
X-WR-CALDESC:Events for Holocaust Museum Houston
REFRESH-INTERVAL;VALUE=DURATION:PT1H
X-Robots-Tag:noindex
X-PUBLISHED-TTL:PT1H
BEGIN:VTIMEZONE
TZID:America/Chicago
BEGIN:DAYLIGHT
TZOFFSETFROM:-0600
TZOFFSETTO:-0500
TZNAME:CDT
DTSTART:20230312T080000
END:DAYLIGHT
BEGIN:STANDARD
TZOFFSETFROM:-0500
TZOFFSETTO:-0600
TZNAME:CST
DTSTART:20231105T070000
END:STANDARD
BEGIN:DAYLIGHT
TZOFFSETFROM:-0600
TZOFFSETTO:-0500
TZNAME:CDT
DTSTART:20240310T080000
END:DAYLIGHT
BEGIN:STANDARD
TZOFFSETFROM:-0500
TZOFFSETTO:-0600
TZNAME:CST
DTSTART:20241103T070000
END:STANDARD
BEGIN:DAYLIGHT
TZOFFSETFROM:-0600
TZOFFSETTO:-0500
TZNAME:CDT
DTSTART:20250309T080000
END:DAYLIGHT
BEGIN:STANDARD
TZOFFSETFROM:-0500
TZOFFSETTO:-0600
TZNAME:CST
DTSTART:20251102T070000
END:STANDARD
END:VTIMEZONE
BEGIN:VEVENT
DTSTART;TZID=America/Chicago:20240718T183000
DTEND;TZID=America/Chicago:20240718T200000
DTSTAMP:20260420T130921
CREATED:20240516T145934Z
LAST-MODIFIED:20240702T160417Z
UID:10000909-1721327400-1721332800@hmh.org
SUMMARY:Gerald S. Kaplan Endowed Lecture | We Share the Same Sky with Rachael Cerrotti
DESCRIPTION:RSVP\n			\n				\n				\n				\n				\n				Rachael Cerrotti is an award-winning author\, educator\, and curator. Through an interdisciplinary practice\, she explores stories rooted in the humanity of grief and inherited memory. Her flagship project\, We Share The Same Sky\, is a decade-long story following her grandmother’s wartime history. She is now a fellow with The Witness Institute and New America\, and hosts the Along The Seam podcast. \nRachael Cerrotti will sign books after the lecture. \nThis lecture will feature closed captioning. \nIf you need accommodations to attend this program\, please contact Heather Cornejo at hcornejo@hmh.org.
URL:https://hmh.org/event/gerald-s-kaplan-endowed-lecture-we-share-the-same-sky-with-rachael-cerrotti/
LOCATION:Albert and Ethel Herzstein Theater
ATTACH;FMTTYPE=image/png:https://hmh.org/wp-content/uploads/WEB-Kaplan-Lecture.png
END:VEVENT
END:VCALENDAR